Package: DeconRNASeq Version: 1.46.0 Maintainer: Ting Gong MaintainerEmail: tinggong at gmail.com git_url: https://git.bioconductor.org/packages/DeconRNASeq git_branch: RELEASE_3_19 git_last_commit: 5ab6a16 git_last_commit_date: 2024-04-30 10:28:59 -0400 (Tue, 30 Apr 2024)