Package: DeProViR Version: 1.0.0 Command: chmod a+r DeProViR -R && E:\biocbuild\bbs-3.19-bioc\R\bin\R.exe CMD build --keep-empty-dirs --no-resave-data DeProViR StartedAt: 2024-10-16 18:39:12 -0400 (Wed, 16 Oct 2024) EndedAt: 2024-10-16 18:42:19 -0400 (Wed, 16 Oct 2024) EllapsedTime: 187.0 seconds RetCode: 1 Status: ERROR PackageFile: None PackageFileSize: NA