Package: DeProViR Version: 1.0.0 Command: /home/biocbuild/bbs-3.19-bioc/R/bin/R CMD build --keep-empty-dirs --no-resave-data DeProViR StartedAt: 2024-10-16 18:10:44 -0400 (Wed, 16 Oct 2024) EndedAt: 2024-10-16 18:14:19 -0400 (Wed, 16 Oct 2024) EllapsedTime: 215.4 seconds RetCode: 0 Status: OK PackageFile: DeProViR_1.0.0.tar.gz PackageFileSize: 1.84 MiB