Package: DeMixT Version: 1.20.0 Command: chmod a+r DeMixT -R && E:\biocbuild\bbs-3.19-bioc\R\bin\R.exe CMD build --keep-empty-dirs --no-resave-data DeMixT StartedAt: 2024-10-16 18:38:15 -0400 (Wed, 16 Oct 2024) EndedAt: 2024-10-16 18:39:47 -0400 (Wed, 16 Oct 2024) EllapsedTime: 91.7 seconds RetCode: 0 Status: OK PackageFile: DeMixT_1.20.0.tar.gz PackageFileSize: 3.524 MiB