Package: DeMixT Version: 1.20.0 Command: rm -rf DeMixT.buildbin-libdir && mkdir DeMixT.buildbin-libdir && E:\biocbuild\bbs-3.19-bioc\R\bin\R.exe CMD INSTALL --build --library=DeMixT.buildbin-libdir DeMixT_1.20.0.tar.gz StartedAt: 2024-10-17 07:40:29 -0400 (Thu, 17 Oct 2024) EndedAt: 2024-10-17 07:41:50 -0400 (Thu, 17 Oct 2024) EllapsedTime: 81.4 seconds RetCode: 0 Status: OK PackageFile: DeMixT_1.20.0.zip PackageFileSize: 2.907 MiB