Package: DeMixT Version: 1.20.0 Command: /Library/Frameworks/R.framework/Resources/bin/R CMD build --keep-empty-dirs --no-resave-data DeMixT StartedAt: 2024-10-16 18:35:39 -0400 (Wed, 16 Oct 2024) EndedAt: 2024-10-16 18:38:55 -0400 (Wed, 16 Oct 2024) EllapsedTime: 195.8 seconds RetCode: 0 Status: OK PackageFile: DeMixT_1.20.0.tar.gz PackageFileSize: 3.595 MiB