Package: DeMixT Version: 1.20.0 Command: rm -rf DeMixT.buildbin-libdir && mkdir DeMixT.buildbin-libdir && /Users/biocbuild/BBS/utils/build-universal.sh DeMixT_1.20.0.tar.gz /Library/Frameworks/R.framework/Resources/bin/R DeMixT.buildbin-libdir StartedAt: 2024-10-17 16:00:43 -0400 (Thu, 17 Oct 2024) EndedAt: 2024-10-17 16:03:00 -0400 (Thu, 17 Oct 2024) EllapsedTime: 137.0 seconds RetCode: 0 Status: OK PackageFile: DeMixT_1.20.0.tgz PackageFileSize: 2.622 MiB