Package: DeMixT Version: 1.20.0 Command: /Library/Frameworks/R.framework/Resources/bin/R CMD check --install=check:DeMixT.install-out.txt --library=/Library/Frameworks/R.framework/Resources/library --no-vignettes --timings DeMixT_1.20.0.tar.gz StartedAt: 2024-10-17 19:19:08 -0400 (Thu, 17 Oct 2024) EndedAt: 2024-10-17 19:27:07 -0400 (Thu, 17 Oct 2024) EllapsedTime: 479.1 seconds RetCode: 0 Status: WARNINGS CheckDir: DeMixT.Rcheck Warnings: 2