Package: DeMAND Version: 1.34.0 Command: E:\biocbuild\bbs-3.19-bioc\R\bin\R.exe CMD INSTALL DeMAND StartedAt: 2024-10-16 15:59:39 -0400 (Wed, 16 Oct 2024) EndedAt: 2024-10-16 16:00:04 -0400 (Wed, 16 Oct 2024) EllapsedTime: 24.8 seconds RetCode: 0 Status: OK