Package: DeMAND Version: 1.34.0 Command: F:\biocbuild\bbs-3.19-bioc\R\bin\R.exe CMD check --no-multiarch --install=check:DeMAND.install-out.txt --library=F:\biocbuild\bbs-3.19-bioc\R\library --no-vignettes --timings DeMAND_1.34.0.tar.gz StartedAt: 2024-06-27 00:53:04 -0400 (Thu, 27 Jun 2024) EndedAt: 2024-06-27 00:53:36 -0400 (Thu, 27 Jun 2024) EllapsedTime: 31.0 seconds RetCode: 0 Status: OK CheckDir: DeMAND.Rcheck Warnings: 0