Package: DeMAND Version: 1.34.0 Command: chmod a+r DeMAND -R && F:\biocbuild\bbs-3.19-bioc\R\bin\R.exe CMD build --keep-empty-dirs --no-resave-data DeMAND StartedAt: 2024-06-26 18:19:43 -0400 (Wed, 26 Jun 2024) EndedAt: 2024-06-26 18:19:54 -0400 (Wed, 26 Jun 2024) EllapsedTime: 11.0 seconds RetCode: 0 Status: OK PackageFile: DeMAND_1.34.0.tar.gz PackageFileSize: 167.4 KiB