Package: DeMAND Version: 1.34.0 Command: rm -rf DeMAND.buildbin-libdir && mkdir DeMAND.buildbin-libdir && F:\biocbuild\bbs-3.19-bioc\R\bin\R.exe CMD INSTALL --build --library=DeMAND.buildbin-libdir DeMAND_1.34.0.tar.gz StartedAt: 2024-06-27 08:06:23 -0400 (Thu, 27 Jun 2024) EndedAt: 2024-06-27 08:06:27 -0400 (Thu, 27 Jun 2024) EllapsedTime: 4.0 seconds RetCode: 0 Status: OK PackageFile: DeMAND_1.34.0.zip PackageFileSize: 203.2 KiB