Package: DeMAND Version: 1.34.0 Command: /home/biocbuild/bbs-3.19-bioc/R/bin/R CMD INSTALL DeMAND StartedAt: 2024-10-16 15:49:50 -0400 (Wed, 16 Oct 2024) EndedAt: 2024-10-16 15:50:02 -0400 (Wed, 16 Oct 2024) EllapsedTime: 11.9 seconds RetCode: 0 Status: OK