Package: DeMAND Version: 1.34.0 Command: /home/biocbuild/bbs-3.19-bioc/R/bin/R CMD build --keep-empty-dirs --no-resave-data DeMAND StartedAt: 2024-10-16 18:09:26 -0400 (Wed, 16 Oct 2024) EndedAt: 2024-10-16 18:09:32 -0400 (Wed, 16 Oct 2024) EllapsedTime: 6.0 seconds RetCode: 0 Status: OK PackageFile: DeMAND_1.34.0.tar.gz PackageFileSize: 166.4 KiB