Package: DeMAND Version: 1.34.0 Command: /Library/Frameworks/R.framework/Resources/bin/R CMD build --keep-empty-dirs --no-resave-data DeMAND StartedAt: 2024-10-16 18:35:14 -0400 (Wed, 16 Oct 2024) EndedAt: 2024-10-16 18:35:39 -0400 (Wed, 16 Oct 2024) EllapsedTime: 24.5 seconds RetCode: 0 Status: OK PackageFile: DeMAND_1.34.0.tar.gz PackageFileSize: 318.2 KiB