Package: DeMAND Version: 1.34.0 Command: rm -rf DeMAND.buildbin-libdir && mkdir DeMAND.buildbin-libdir && /Users/biocbuild/BBS/utils/build-universal.sh DeMAND_1.34.0.tar.gz /Library/Frameworks/R.framework/Resources/bin/R DeMAND.buildbin-libdir StartedAt: 2024-06-10 00:14:45 -0400 (Mon, 10 Jun 2024) EndedAt: 2024-06-10 00:14:50 -0400 (Mon, 10 Jun 2024) EllapsedTime: 4.5 seconds RetCode: 0 Status: OK PackageFile: DeMAND_1.34.0.tgz PackageFileSize: 350.9 KiB