Package: DeMAND Version: 1.34.0 Command: /home/biocbuild/R/R-beta-2024-04-15_r86425/bin/R CMD check --install=check:DeMAND.install-out.txt --library=/home/biocbuild/R/R-beta-2024-04-15_r86425/site-library --no-vignettes --timings DeMAND_1.34.0.tar.gz StartedAt: 2024-05-09 06:41:14 -0000 (Thu, 09 May 2024) EndedAt: 2024-05-09 06:41:35 -0000 (Thu, 09 May 2024) EllapsedTime: 21.0 seconds RetCode: 0 Status: OK CheckDir: DeMAND.Rcheck Warnings: 0