Package: DeMAND Version: 1.34.0 Command: /home/biocbuild/R/R-beta-2024-04-15_r86425/bin/R CMD build --keep-empty-dirs --no-resave-data DeMAND StartedAt: 2024-05-08 23:49:07 -0000 (Wed, 08 May 2024) EndedAt: 2024-05-08 23:49:14 -0000 (Wed, 08 May 2024) EllapsedTime: 7.0 seconds RetCode: 0 Status: OK PackageFile: DeMAND_1.34.0.tar.gz PackageFileSize: 310.5 KiB