Package: DeMAND Version: 1.34.0 Command: rm -rf DeMAND.buildbin-libdir && mkdir DeMAND.buildbin-libdir && /Users/biocbuild/BBS/utils/build-universal.sh DeMAND_1.34.0.tar.gz /Library/Frameworks/R.framework/Resources/bin/R DeMAND.buildbin-libdir StartedAt: 2024-06-11 10:54:36 -0400 (Tue, 11 Jun 2024) EndedAt: 2024-06-11 10:54:43 -0400 (Tue, 11 Jun 2024) EllapsedTime: 6.6 seconds RetCode: 0 Status: OK PackageFile: DeMAND_1.34.0.tgz PackageFileSize: 350.7 KiB