Package: Damsel Version: 1.0.0 Command: rm -rf Damsel.buildbin-libdir && mkdir Damsel.buildbin-libdir && F:\biocbuild\bbs-3.19-bioc\R\bin\R.exe CMD INSTALL --build --library=Damsel.buildbin-libdir Damsel_1.0.0.tar.gz StartedAt: 2024-06-27 08:05:01 -0400 (Thu, 27 Jun 2024) EndedAt: 2024-06-27 08:05:21 -0400 (Thu, 27 Jun 2024) EllapsedTime: 19.6 seconds RetCode: 0 Status: OK PackageFile: Damsel_1.0.0.zip PackageFileSize: 1.965 MiB