Package: Damsel Version: 1.0.2 Command: /Library/Frameworks/R.framework/Resources/bin/R CMD build --keep-empty-dirs --no-resave-data Damsel StartedAt: 2024-10-16 18:27:03 -0400 (Wed, 16 Oct 2024) EndedAt: 2024-10-16 18:33:21 -0400 (Wed, 16 Oct 2024) EllapsedTime: 377.5 seconds RetCode: 0 Status: OK PackageFile: Damsel_1.0.2.tar.gz PackageFileSize: 3.164 MiB