Package: Damsel Version: 1.0.2 Command: rm -rf Damsel.buildbin-libdir && mkdir Damsel.buildbin-libdir && /Users/biocbuild/BBS/utils/build-universal.sh Damsel_1.0.2.tar.gz /Library/Frameworks/R.framework/Resources/bin/R Damsel.buildbin-libdir StartedAt: 2024-10-17 15:58:36 -0400 (Thu, 17 Oct 2024) EndedAt: 2024-10-17 15:58:51 -0400 (Thu, 17 Oct 2024) EllapsedTime: 14.6 seconds RetCode: 0 Status: OK PackageFile: Damsel_1.0.2.tgz PackageFileSize: 3.073 MiB