Package: Damsel Version: 1.0.0 Command: /home/biocbuild/R/R-beta-2024-04-15_r86425/bin/R CMD check --install=check:Damsel.install-out.txt --library=/home/biocbuild/R/R-beta-2024-04-15_r86425/site-library --no-vignettes --timings Damsel_1.0.0.tar.gz StartedAt: 2024-05-09 06:30:48 -0000 (Thu, 09 May 2024) EndedAt: 2024-05-09 06:35:19 -0000 (Thu, 09 May 2024) EllapsedTime: 271.5 seconds RetCode: 0 Status: OK CheckDir: Damsel.Rcheck Warnings: 0