Package: Damsel Version: 1.0.0 Command: /home/biocbuild/R/R-beta-2024-04-15_r86425/bin/R CMD build --keep-empty-dirs --no-resave-data Damsel StartedAt: 2024-05-08 23:43:26 -0000 (Wed, 08 May 2024) EndedAt: 2024-05-08 23:47:16 -0000 (Wed, 08 May 2024) EllapsedTime: 230.3 seconds RetCode: 0 Status: OK PackageFile: Damsel_1.0.0.tar.gz PackageFileSize: 2.288 MiB