Package: Damsel Version: 1.0.2 Maintainer: Caitlin Page MaintainerEmail: caitlin.page at petermac.org git_url: https://git.bioconductor.org/packages/Damsel git_branch: RELEASE_3_19 git_last_commit: 1106819 git_last_commit_date: 2024-08-27 21:59:23 -0400 (Tue, 27 Aug 2024)