Package: DaMiRseq Version: 2.16.0 Command: rm -rf DaMiRseq.buildbin-libdir && mkdir DaMiRseq.buildbin-libdir && F:\biocbuild\bbs-3.19-bioc\R\bin\R.exe CMD INSTALL --build --library=DaMiRseq.buildbin-libdir DaMiRseq_2.16.0.tar.gz StartedAt: 2024-06-27 08:04:59 -0400 (Thu, 27 Jun 2024) EndedAt: 2024-06-27 08:06:25 -0400 (Thu, 27 Jun 2024) EllapsedTime: 85.7 seconds RetCode: 0 Status: OK PackageFile: DaMiRseq_2.16.0.zip PackageFileSize: 4.38 MiB