Package: DaMiRseq Version: 2.16.0 Command: /home/biocbuild/bbs-3.19-bioc/R/bin/R CMD check --install=check:DaMiRseq.install-out.txt --library=/home/biocbuild/bbs-3.19-bioc/R/site-library --timings DaMiRseq_2.16.0.tar.gz StartedAt: 2024-10-16 23:27:35 -0400 (Wed, 16 Oct 2024) EndedAt: 2024-10-16 23:41:34 -0400 (Wed, 16 Oct 2024) EllapsedTime: 839.7 seconds RetCode: 0 Status: OK CheckDir: DaMiRseq.Rcheck Warnings: 0