Package: DaMiRseq Version: 2.16.0 Command: /home/biocbuild/bbs-3.19-bioc/R/bin/R CMD build --keep-empty-dirs --no-resave-data DaMiRseq StartedAt: 2024-10-16 18:04:45 -0400 (Wed, 16 Oct 2024) EndedAt: 2024-10-16 18:12:09 -0400 (Wed, 16 Oct 2024) EllapsedTime: 443.9 seconds RetCode: 0 Status: OK PackageFile: DaMiRseq_2.16.0.tar.gz PackageFileSize: 4.217 MiB