Package: DaMiRseq Version: 2.16.0 Command: /Library/Frameworks/R.framework/Resources/bin/R CMD INSTALL DaMiRseq StartedAt: 2024-10-16 16:32:24 -0400 (Wed, 16 Oct 2024) EndedAt: 2024-10-16 16:34:36 -0400 (Wed, 16 Oct 2024) EllapsedTime: 132.3 seconds RetCode: 0 Status: OK