Package: DaMiRseq Version: 2.16.0 Command: /Library/Frameworks/R.framework/Resources/bin/R CMD build --keep-empty-dirs --no-resave-data DaMiRseq StartedAt: 2024-10-16 18:26:34 -0400 (Wed, 16 Oct 2024) EndedAt: 2024-10-16 18:53:36 -0400 (Wed, 16 Oct 2024) EllapsedTime: 1621.9 seconds RetCode: 0 Status: OK PackageFile: DaMiRseq_2.16.0.tar.gz PackageFileSize: 4.217 MiB