Package: DaMiRseq Version: 2.16.0 Command: rm -rf DaMiRseq.buildbin-libdir && mkdir DaMiRseq.buildbin-libdir && /Users/biocbuild/BBS/utils/build-universal.sh DaMiRseq_2.16.0.tar.gz /Library/Frameworks/R.framework/Resources/bin/R DaMiRseq.buildbin-libdir StartedAt: 2024-10-17 15:58:35 -0400 (Thu, 17 Oct 2024) EndedAt: 2024-10-17 16:00:54 -0400 (Thu, 17 Oct 2024) EllapsedTime: 138.7 seconds RetCode: 0 Status: OK PackageFile: DaMiRseq_2.16.0.tgz PackageFileSize: 4.466 MiB