Package: DaMiRseq Version: 2.16.0 Command: /home/biocbuild/R/R-beta-2024-04-15_r86425/bin/R CMD INSTALL DaMiRseq StartedAt: 2024-05-08 20:56:43 -0000 (Wed, 08 May 2024) EndedAt: 2024-05-08 20:58:00 -0000 (Wed, 08 May 2024) EllapsedTime: 77.1 seconds RetCode: 0 Status: OK