Package: DaMiRseq Version: 2.16.0 Command: /home/biocbuild/R/R-beta-2024-04-15_r86425/bin/R CMD check --install=check:DaMiRseq.install-out.txt --library=/home/biocbuild/R/R-beta-2024-04-15_r86425/site-library --no-vignettes --timings DaMiRseq_2.16.0.tar.gz StartedAt: 2024-05-09 06:30:21 -0000 (Thu, 09 May 2024) EndedAt: 2024-05-09 06:38:52 -0000 (Thu, 09 May 2024) EllapsedTime: 510.9 seconds RetCode: 0 Status: OK CheckDir: DaMiRseq.Rcheck Warnings: 0