Package: DaMiRseq Version: 2.16.0 Command: rm -rf DaMiRseq.buildbin-libdir && mkdir DaMiRseq.buildbin-libdir && /Users/biocbuild/BBS/utils/build-universal.sh DaMiRseq_2.16.0.tar.gz /Library/Frameworks/R.framework/Resources/bin/R DaMiRseq.buildbin-libdir StartedAt: 2024-10-18 18:05:12 -0400 (Fri, 18 Oct 2024) EndedAt: 2024-10-18 18:06:37 -0400 (Fri, 18 Oct 2024) EllapsedTime: 85.2 seconds RetCode: 0 Status: OK PackageFile: DaMiRseq_2.16.0.tgz PackageFileSize: 4.465 MiB