Package: DTA Version: 2.50.0 Command: E:\biocbuild\bbs-3.19-bioc\R\bin\R.exe CMD INSTALL DTA StartedAt: 2024-10-16 15:59:45 -0400 (Wed, 16 Oct 2024) EndedAt: 2024-10-16 16:00:13 -0400 (Wed, 16 Oct 2024) EllapsedTime: 27.6 seconds RetCode: 0 Status: OK