Package: DTA Version: 2.50.0 Command: F:\biocbuild\bbs-3.19-bioc\R\bin\R.exe CMD check --no-multiarch --install=check:DTA.install-out.txt --library=F:\biocbuild\bbs-3.19-bioc\R\library --no-vignettes --timings DTA_2.50.0.tar.gz StartedAt: 2024-06-27 01:14:23 -0400 (Thu, 27 Jun 2024) EndedAt: 2024-06-27 01:19:24 -0400 (Thu, 27 Jun 2024) EllapsedTime: 300.3 seconds RetCode: 0 Status: OK CheckDir: DTA.Rcheck Warnings: 0