Package: DTA Version: 2.50.0 Command: /Library/Frameworks/R.framework/Resources/bin/R CMD check --install=check:DTA.install-out.txt --library=/Library/Frameworks/R.framework/Resources/library --no-vignettes --timings DTA_2.50.0.tar.gz StartedAt: 2024-10-17 04:38:28 -0400 (Thu, 17 Oct 2024) EndedAt: 2024-10-17 04:48:59 -0400 (Thu, 17 Oct 2024) EllapsedTime: 631.2 seconds RetCode: 0 Status: OK CheckDir: DTA.Rcheck Warnings: 0