Package: DTA Version: 2.50.0 Command: /Library/Frameworks/R.framework/Resources/bin/R CMD build --keep-empty-dirs --no-resave-data DTA StartedAt: 2024-10-16 18:53:52 -0400 (Wed, 16 Oct 2024) EndedAt: 2024-10-16 19:07:52 -0400 (Wed, 16 Oct 2024) EllapsedTime: 840.3 seconds RetCode: 0 Status: OK PackageFile: DTA_2.50.0.tar.gz PackageFileSize: 9.037 MiB