Package: DTA Version: 2.50.0 Command: rm -rf DTA.buildbin-libdir && mkdir DTA.buildbin-libdir && /Users/biocbuild/BBS/utils/build-universal.sh DTA_2.50.0.tar.gz /Library/Frameworks/R.framework/Resources/bin/R DTA.buildbin-libdir StartedAt: 2024-10-17 16:04:22 -0400 (Thu, 17 Oct 2024) EndedAt: 2024-10-17 16:04:45 -0400 (Thu, 17 Oct 2024) EllapsedTime: 22.2 seconds RetCode: 0 Status: OK PackageFile: DTA_2.50.0.tgz PackageFileSize: 9.289 MiB