Package: DTA Version: 2.50.0 Command: /Library/Frameworks/R.framework/Resources/bin/R CMD build --keep-empty-dirs --no-resave-data DTA StartedAt: 2024-06-09 16:32:30 -0400 (Sun, 09 Jun 2024) EndedAt: 2024-06-09 16:37:21 -0400 (Sun, 09 Jun 2024) EllapsedTime: 291.2 seconds RetCode: 0 Status: OK PackageFile: DTA_2.50.0.tar.gz PackageFileSize: 9.027 MiB