Package: DTA Version: 2.50.0 Command: /home/biocbuild/R/R-beta-2024-04-15_r86425/bin/R CMD INSTALL DTA StartedAt: 2024-05-08 20:03:19 -0000 (Wed, 08 May 2024) EndedAt: 2024-05-08 20:03:45 -0000 (Wed, 08 May 2024) EllapsedTime: 26.1 seconds RetCode: 0 Status: OK