Package: DTA Version: 2.50.0 Command: /home/biocbuild/R/R-beta-2024-04-15_r86425/bin/R CMD build --keep-empty-dirs --no-resave-data DTA StartedAt: 2024-05-09 00:02:05 -0000 (Thu, 09 May 2024) EndedAt: 2024-05-09 00:08:35 -0000 (Thu, 09 May 2024) EllapsedTime: 389.5 seconds RetCode: 0 Status: OK PackageFile: DTA_2.50.0.tar.gz PackageFileSize: 10.68 MiB