Package: DTA Version: 2.50.0 Command: /Library/Frameworks/R.framework/Resources/bin/R CMD check --install=check:DTA.install-out.txt --library=/Library/Frameworks/R.framework/Resources/library --no-vignettes --timings DTA_2.50.0.tar.gz StartedAt: 2024-06-10 14:24:37 -0400 (Mon, 10 Jun 2024) EndedAt: 2024-06-10 14:30:28 -0400 (Mon, 10 Jun 2024) EllapsedTime: 350.9 seconds RetCode: 0 Status: OK CheckDir: DTA.Rcheck Warnings: 0