Package: DSS Version: 2.52.0 Command: chmod a+r DSS -R && E:\biocbuild\bbs-3.19-bioc\R\bin\R.exe CMD build --keep-empty-dirs --no-resave-data DSS StartedAt: 2024-10-16 18:48:09 -0400 (Wed, 16 Oct 2024) EndedAt: 2024-10-16 18:49:24 -0400 (Wed, 16 Oct 2024) EllapsedTime: 74.4 seconds RetCode: 0 Status: OK PackageFile: DSS_2.52.0.tar.gz PackageFileSize: 2.029 MiB