Package: DSS Version: 2.52.0 Command: rm -rf DSS.buildbin-libdir && mkdir DSS.buildbin-libdir && E:\biocbuild\bbs-3.19-bioc\R\bin\R.exe CMD INSTALL --build --library=DSS.buildbin-libdir DSS_2.52.0.tar.gz StartedAt: 2024-10-17 07:43:33 -0400 (Thu, 17 Oct 2024) EndedAt: 2024-10-17 07:44:29 -0400 (Thu, 17 Oct 2024) EllapsedTime: 55.7 seconds RetCode: 0 Status: OK PackageFile: DSS_2.52.0.zip PackageFileSize: 1.605 MiB