Package: DSS Version: 2.52.0 Command: /home/biocbuild/bbs-3.19-bioc/R/bin/R CMD INSTALL DSS StartedAt: 2024-10-16 16:09:00 -0400 (Wed, 16 Oct 2024) EndedAt: 2024-10-16 16:09:39 -0400 (Wed, 16 Oct 2024) EllapsedTime: 39.3 seconds RetCode: 0 Status: OK