Package: DSS Version: 2.52.0 Command: rm -rf DSS.buildbin-libdir && mkdir DSS.buildbin-libdir && /Users/biocbuild/BBS/utils/build-universal.sh DSS_2.52.0.tar.gz /Library/Frameworks/R.framework/Resources/bin/R DSS.buildbin-libdir StartedAt: 2024-06-11 11:02:11 -0400 (Tue, 11 Jun 2024) EndedAt: 2024-06-11 11:03:35 -0400 (Tue, 11 Jun 2024) EllapsedTime: 84.3 seconds RetCode: 0 Status: OK PackageFile: DSS_2.52.0.tgz PackageFileSize: 1.601 MiB