Package: DSS Version: 2.52.0 Command: /Library/Frameworks/R.framework/Resources/bin/R CMD build --keep-empty-dirs --no-resave-data DSS StartedAt: 2024-10-16 23:40:52 -0400 (Wed, 16 Oct 2024) EndedAt: 2024-10-16 23:42:11 -0400 (Wed, 16 Oct 2024) EllapsedTime: 79.1 seconds RetCode: 0 Status: OK PackageFile: DSS_2.52.0.tar.gz PackageFileSize: 2.029 MiB