Package: DRIMSeq Version: 1.32.0 Command: F:\biocbuild\bbs-3.19-bioc\R\bin\R.exe CMD check --no-multiarch --install=check:DRIMSeq.install-out.txt --library=F:\biocbuild\bbs-3.19-bioc\R\library --no-vignettes --timings DRIMSeq_1.32.0.tar.gz StartedAt: 2024-06-27 01:11:47 -0400 (Thu, 27 Jun 2024) EndedAt: 2024-06-27 01:16:08 -0400 (Thu, 27 Jun 2024) EllapsedTime: 261.5 seconds RetCode: 0 Status: WARNINGS CheckDir: DRIMSeq.Rcheck Warnings: 1