Package: DRIMSeq Version: 1.32.0 Command: /Library/Frameworks/R.framework/Resources/bin/R CMD check --install=check:DRIMSeq.install-out.txt --library=/Library/Frameworks/R.framework/Resources/library --no-vignettes --timings DRIMSeq_1.32.0.tar.gz StartedAt: 2024-10-17 20:12:18 -0400 (Thu, 17 Oct 2024) EndedAt: 2024-10-17 20:16:16 -0400 (Thu, 17 Oct 2024) EllapsedTime: 238.0 seconds RetCode: 0 Status: WARNINGS CheckDir: DRIMSeq.Rcheck Warnings: 1